BEGIN:VCALENDAR
VERSION:2.0
PRODID:-//HART HOUSE UNDERWATER CLUB - ECPv6.15.20//NONSGML v1.0//EN
CALSCALE:GREGORIAN
METHOD:PUBLISH
X-ORIGINAL-URL:https://universitydivers.ca
X-WR-CALDESC:Events for HART HOUSE UNDERWATER CLUB
REFRESH-INTERVAL;VALUE=DURATION:PT1H
X-Robots-Tag:noindex
X-PUBLISHED-TTL:PT1H
BEGIN:VTIMEZONE
TZID:America/New_York
BEGIN:DAYLIGHT
TZOFFSETFROM:-0500
TZOFFSETTO:-0400
TZNAME:EDT
DTSTART:20190310T070000
END:DAYLIGHT
BEGIN:STANDARD
TZOFFSETFROM:-0400
TZOFFSETTO:-0500
TZNAME:EST
DTSTART:20191103T060000
END:STANDARD
BEGIN:DAYLIGHT
TZOFFSETFROM:-0500
TZOFFSETTO:-0400
TZNAME:EDT
DTSTART:20200308T070000
END:DAYLIGHT
BEGIN:STANDARD
TZOFFSETFROM:-0400
TZOFFSETTO:-0500
TZNAME:EST
DTSTART:20201101T060000
END:STANDARD
BEGIN:DAYLIGHT
TZOFFSETFROM:-0500
TZOFFSETTO:-0400
TZNAME:EDT
DTSTART:20210314T070000
END:DAYLIGHT
BEGIN:STANDARD
TZOFFSETFROM:-0400
TZOFFSETTO:-0500
TZNAME:EST
DTSTART:20211107T060000
END:STANDARD
END:VTIMEZONE
BEGIN:VEVENT
DTSTART;VALUE=DATE:20200308
DTEND;VALUE=DATE:20200316
DTSTAMP:20260424T065907
CREATED:20200214T155529Z
LAST-MODIFIED:20200214T155529Z
UID:3228-1583625600-1584316799@universitydivers.ca
SUMMARY:Dive Bonaire
DESCRIPTION:HHUC is off to Bonaire\, March 8-15\, 2020 \nDetails
URL:https://universitydivers.ca/event/dive-bonaire/
CATEGORIES:Dive Schedule
ATTACH;FMTTYPE=image/jpeg:https://universitydivers.ca/wp-content/uploads/2019/11/capt-dons-bonaire.jpg
END:VEVENT
END:VCALENDAR