BEGIN:VCALENDAR
VERSION:2.0
PRODID:-//HART HOUSE UNDERWATER CLUB - ECPv6.15.20//NONSGML v1.0//EN
CALSCALE:GREGORIAN
METHOD:PUBLISH
X-WR-CALNAME:HART HOUSE UNDERWATER CLUB
X-ORIGINAL-URL:https://universitydivers.ca
X-WR-CALDESC:Events for HART HOUSE UNDERWATER CLUB
REFRESH-INTERVAL;VALUE=DURATION:PT1H
X-Robots-Tag:noindex
X-PUBLISHED-TTL:PT1H
BEGIN:VTIMEZONE
TZID:America/New_York
BEGIN:DAYLIGHT
TZOFFSETFROM:-0500
TZOFFSETTO:-0400
TZNAME:EDT
DTSTART:20190310T070000
END:DAYLIGHT
BEGIN:STANDARD
TZOFFSETFROM:-0400
TZOFFSETTO:-0500
TZNAME:EST
DTSTART:20191103T060000
END:STANDARD
BEGIN:DAYLIGHT
TZOFFSETFROM:-0500
TZOFFSETTO:-0400
TZNAME:EDT
DTSTART:20200308T070000
END:DAYLIGHT
BEGIN:STANDARD
TZOFFSETFROM:-0400
TZOFFSETTO:-0500
TZNAME:EST
DTSTART:20201101T060000
END:STANDARD
BEGIN:DAYLIGHT
TZOFFSETFROM:-0500
TZOFFSETTO:-0400
TZNAME:EDT
DTSTART:20210314T070000
END:DAYLIGHT
BEGIN:STANDARD
TZOFFSETFROM:-0400
TZOFFSETTO:-0500
TZNAME:EST
DTSTART:20211107T060000
END:STANDARD
BEGIN:DAYLIGHT
TZOFFSETFROM:-0500
TZOFFSETTO:-0400
TZNAME:EDT
DTSTART:20220313T070000
END:DAYLIGHT
BEGIN:STANDARD
TZOFFSETFROM:-0400
TZOFFSETTO:-0500
TZNAME:EST
DTSTART:20221106T060000
END:STANDARD
BEGIN:DAYLIGHT
TZOFFSETFROM:-0500
TZOFFSETTO:-0400
TZNAME:EDT
DTSTART:20230312T070000
END:DAYLIGHT
BEGIN:STANDARD
TZOFFSETFROM:-0400
TZOFFSETTO:-0500
TZNAME:EST
DTSTART:20231105T060000
END:STANDARD
END:VTIMEZONE
BEGIN:VEVENT
DTSTART;TZID=America/New_York:20221201T193000
DTEND;TZID=America/New_York:20221201T230000
DTSTAMP:20260423T214006
CREATED:20221012T155350Z
LAST-MODIFIED:20221104T125325Z
UID:8547-1669923000-1669935600@universitydivers.ca
SUMMARY:Holiday Party\, Recognition Night & AGM 2022
DESCRIPTION:December Holiday Party\, Recognition Night Celebrations & AGM
URL:https://universitydivers.ca/event/agm-recognition-night-holiday-party-2022/
CATEGORIES:Social
ATTACH;FMTTYPE=image/png:https://universitydivers.ca/wp-content/uploads/2020/09/hhuc-agm-uw.png
END:VEVENT
BEGIN:VEVENT
DTSTART;TZID=America/New_York:20211202T190000
DTEND;TZID=America/New_York:20211202T210000
DTSTAMP:20260423T214006
CREATED:20211102T142505Z
LAST-MODIFIED:20220622T125514Z
UID:6646-1638471600-1638478800@universitydivers.ca
SUMMARY:Online Social Event with HHUC\, Thursday\, Dec. 2\, 2021 at 7:00 pm
DESCRIPTION:Come and get to know the Hart House Underwater Club \n \n\n\nThis event is open to everyone! Join us on Thursday\, Dec. 2 to meet club members\, chat about diving and participate in our latest trivia contest. This is a great opportunity for new and prospective members to learn about HHUC and our plans for scuba training and diving.\n \n\nJoin the Zoom meeting: https://utoronto.zoom.us/j/81212264909 Meeting ID: 812 1226 4909 Passcode: 237289 \nAre you a diver or non-diver? Are you a UofT student? Or a member of the general public? Are you a member of HHUC or not? Never mind — You are all welcome! All you need is a feeling of fun\, curiosity\, adventure and friendship. We look forward to meeting you! \n 
URL:https://universitydivers.ca/event/party/
CATEGORIES:Social
ATTACH;FMTTYPE=image/jpeg:https://universitydivers.ca/wp-content/uploads/2021/11/zoom-social.jpg
END:VEVENT
BEGIN:VEVENT
DTSTART;TZID=America/New_York:20201215T190000
DTEND;TZID=America/New_York:20201215T210000
DTSTAMP:20260423T214006
CREATED:20201130T143135Z
LAST-MODIFIED:20201210T215039Z
UID:4638-1608058800-1608066000@universitydivers.ca
SUMMARY:HHUC Holiday Party
DESCRIPTION:December Holiday Party – Tuesday\, Dec. 15\, 7:00 pm
URL:https://universitydivers.ca/event/hhuc-holiday-party/
CATEGORIES:Social
END:VEVENT
BEGIN:VEVENT
DTSTART;TZID=America/New_York:20201214T120000
DTEND;TZID=America/New_York:20201214T123000
DTSTAMP:20260423T214006
CREATED:20201204T192910Z
LAST-MODIFIED:20201214T220931Z
UID:4703-1607947200-1607949000@universitydivers.ca
SUMMARY:Live on Instagram
DESCRIPTION:Live on Instagram with Amelia Davies and Siena Wong — Listen in on their chat about the Underwater Club:  https://www.instagram.com/p/CIyT_bzD4-d/
URL:https://universitydivers.ca/event/live-on-instagram/
CATEGORIES:Social
END:VEVENT
BEGIN:VEVENT
DTSTART;TZID=America/New_York:20201201T190000
DTEND;TZID=America/New_York:20201201T203000
DTSTAMP:20260423T214006
CREATED:20200918T211129Z
LAST-MODIFIED:20201005T221943Z
UID:4213-1606849200-1606854600@universitydivers.ca
SUMMARY:Inner Space Seminar: Arctic Shipwrecks
DESCRIPTION:
URL:https://universitydivers.ca/event/inner-space-franklin/
CATEGORIES:Social,Training
ATTACH;FMTTYPE=image/jpeg:https://universitydivers.ca/wp-content/uploads/2020/09/erebus.jpg
END:VEVENT
BEGIN:VEVENT
DTSTART;TZID=America/New_York:20201124T190000
DTEND;TZID=America/New_York:20201124T203000
DTSTAMP:20260423T214006
CREATED:20201005T203640Z
LAST-MODIFIED:20201005T205042Z
UID:4192-1606244400-1606249800@universitydivers.ca
SUMMARY:Inner Space Seminar: Cold Water Diving
DESCRIPTION:
URL:https://universitydivers.ca/event/inner-space-icedive/
CATEGORIES:Social,Training
END:VEVENT
BEGIN:VEVENT
DTSTART;TZID=America/New_York:20201119T193000
DTEND;TZID=America/New_York:20201119T210000
DTSTAMP:20260423T214006
CREATED:20200917T195626Z
LAST-MODIFIED:20201007T145518Z
UID:4067-1605814200-1605819600@universitydivers.ca
SUMMARY:Annual General Meeting 2020
DESCRIPTION:Annual General Meeting\n\n\nThe HHUC AGM is scheduled for Thursday\, Nov. 19 at 7:30 pm on Zoom with: \n\nwildly interesting presentations\,\nelections for the Executive Board\,\nso much fun.\n\nAll members are welcome.\nNote to University Students: If you would like to find out what our HHUC diving club is all about\, please feel free to attend as a non-voting participant! \nIf you would like to join the HHUC Executive in any of the following roles\, please contact us to learn more. \n\nPresident\nSocial Director\nEquipment Director\nDive Coordinator\nMembership Director\nor even a “Director without Portfolio”.\n\nWe’d love to hear from you! moc.liamgnull@snoitacinummoc.cuhh
URL:https://universitydivers.ca/event/agm2020/
CATEGORIES:Executive,Social
ATTACH;FMTTYPE=image/png:https://universitydivers.ca/wp-content/uploads/2020/09/hhuc-gulliverslake-2018.png
END:VEVENT
BEGIN:VEVENT
DTSTART;TZID=America/New_York:20201117T190000
DTEND;TZID=America/New_York:20201117T203000
DTSTAMP:20260423T214006
CREATED:20201005T200444Z
LAST-MODIFIED:20201005T204132Z
UID:4183-1605639600-1605645000@universitydivers.ca
SUMMARY:Inner Space Seminar: Dive Computers - Part 2
DESCRIPTION:
URL:https://universitydivers.ca/event/inner-space-computer2/
CATEGORIES:Social,Training
ATTACH;FMTTYPE=image/jpeg:https://universitydivers.ca/wp-content/uploads/2020/09/suunto-dive-computers.jpg
END:VEVENT
BEGIN:VEVENT
DTSTART;TZID=America/New_York:20201110T190000
DTEND;TZID=America/New_York:20201110T203000
DTSTAMP:20260423T214006
CREATED:20201005T200336Z
LAST-MODIFIED:20201005T204143Z
UID:4181-1605034800-1605040200@universitydivers.ca
SUMMARY:Inner Space Seminar: Dive Computers - Part 1
DESCRIPTION:
URL:https://universitydivers.ca/event/inner-space-computer1/
CATEGORIES:Social,Training
ATTACH;FMTTYPE=image/jpeg:https://universitydivers.ca/wp-content/uploads/2020/09/suunto-dive-computers.jpg
END:VEVENT
BEGIN:VEVENT
DTSTART;TZID=America/New_York:20201103T080000
DTEND;TZID=America/New_York:20201103T170000
DTSTAMP:20260423T214006
CREATED:20201005T195335Z
LAST-MODIFIED:20201005T200103Z
UID:4174-1604390400-1604422800@universitydivers.ca
SUMMARY:Inner Space Seminar: Reef Watchers - Fish Identification
DESCRIPTION:
URL:https://universitydivers.ca/event/inner-space-fishid/
CATEGORIES:Social,Training
END:VEVENT
BEGIN:VEVENT
DTSTART;TZID=America/New_York:20201027T190000
DTEND;TZID=America/New_York:20201027T203000
DTSTAMP:20260423T214006
CREATED:20200917T194330Z
LAST-MODIFIED:20201005T195752Z
UID:4063-1603825200-1603830600@universitydivers.ca
SUMMARY:Inner Space Seminar: Underwater Photography
DESCRIPTION:
URL:https://universitydivers.ca/event/inner-space-seminar-underwater-photography/
CATEGORIES:Social,Training
ATTACH;FMTTYPE=image/png:https://universitydivers.ca/wp-content/uploads/2020/09/hhuc-clownfish-crgibson-1.png
END:VEVENT
BEGIN:VEVENT
DTSTART;TZID=America/New_York:20201024T200000
DTEND;TZID=America/New_York:20201024T220000
DTSTAMP:20260423T214006
CREATED:20200911T032737Z
LAST-MODIFIED:20200911T032737Z
UID:3968-1603569600-1603576800@universitydivers.ca
SUMMARY:Recognition Night
DESCRIPTION:HHUC Recognition Night Party\, Sat. Oct. 24\, 8:00 pm
URL:https://universitydivers.ca/event/recognition-night-2/
CATEGORIES:Social
ATTACH;FMTTYPE=image/jpeg:https://universitydivers.ca/wp-content/uploads/2020/01/awards_hhuc.jpg
END:VEVENT
BEGIN:VEVENT
DTSTART;TZID=America/New_York:20200820T210000
DTEND;TZID=America/New_York:20200820T223000
DTSTAMP:20260423T214006
CREATED:20200730T165229Z
LAST-MODIFIED:20200801T230641Z
UID:3481-1597957200-1597962600@universitydivers.ca
SUMMARY:HHUC Trivia Night at the Movies
DESCRIPTION:HHUC Trivia Night at the Movies\n\n\nSave the Date!\nWe’re planning our third Trivia Night in August. \nDate: Thursday\, August 20\, 2020 \nTime:  9:00 pm – 10:30 pm \nTheme: Movie Trivia.\nBring your own popcorn! \nZoom:\nJoin the Zoom Meeting\, but not until Aug 20 at 9:00 pm:\nhttps://bioconnect.zoom.us/j/98837168590?pwd=RzdsMmtQRWlvdDFEOVdVY1BzZnI2Zz09 \nMeeting ID: 988 3716 8590\nPasscode: 309903\nPassword (if needed): HHUC \nThe Game Platform: Kahoot — Please note that the trivia quiz will be done on Kahoot. If you are able to have two devices (e.g.\, a phone and a computer)\, it will make the game easier to play! One device will be your remote to punch in your answers\, and the other will be able to display the questions via zoom. If you only have one device\, that’s ok! You can just have the Kahoot link open in another tab. The Kahoot quiz link will be sent out after the social starts\, so just bring your devices and your competitive spirit\, and you will be all set! \nRSVP: \n\n\n  \n\n\n\n Your Name (required)\n \n \n Your Email (required)\n \n \n Subject\n \n \n Your Message\n \n \n\n \n\n\n \n\n  \n 
URL:https://universitydivers.ca/event/hhuc-trivia-night-at-the-movies/
CATEGORIES:Social
END:VEVENT
BEGIN:VEVENT
DTSTART;TZID=America/New_York:20200724T170000
DTEND;TZID=America/New_York:20200724T183000
DTSTAMP:20260423T214006
CREATED:20200720T230112Z
LAST-MODIFIED:20200721T141149Z
UID:3399-1595610000-1595615400@universitydivers.ca
SUMMARY:HHUC Online Party and Geography Trivia Contest
DESCRIPTION:Hart House Underwater Club Online Party &  Geography Trivia Contest!\nFriday\, July 24 @ 5:00 pm – 6:30 pm\nWe still can’t crowd onto a dive boat or practice buddy breathing\,\nbut we can carry on the HHUC tradition of another great party — once again on Zoom.\n\nWe’d love to see the topographical features of your smile\, as we play Geography Trivia this month.\n\nTheme: Geography Trivia!\nAttire: Dress up with something from your favourite country in the world! Or turn yourself into a geographic feature – ocean\, mountain\, iceberg\, river\, volcano — The sky’s the limit.\nDate: Friday\, July 24\, 2020\nTime: 5:00 pm to 6:30 pm\nBYOB: Snack and drinks representative of your favourite country or geographic feature (be creative!)\n.\nZoom Login:\nhttps://bioconnect.zoom.us/j/99042659414?pwd=MlZwbEtTeStKU0RSaktCUnM3NE5xQT09\n.\nThe Game Platform: Kahoot — Please note that the trivia quiz will be done on Kahoot. If you are able to have two devices (e.g.\, a phone and a computer)\, it will make the game easier to play! One device will be your remote to punch in your answers\, and the other will be able to display the questions via zoom. If you only have one device\, that’s ok! You can just have the Kahoot link open in another tab. The Kahoot quiz link will be sent out after the social starts\, so just bring your devices and your competitive spirit\, and you will be all set!\n.\nRSVP: moc.liamgnull@inmulacuhh\n.\nSee you then!\n~ your HHUC Social Committee
URL:https://universitydivers.ca/event/hhuc-online-party-and-geography-trivia-contest/
CATEGORIES:Social
END:VEVENT
BEGIN:VEVENT
DTSTART;TZID=America/New_York:20200612T170000
DTEND;TZID=America/New_York:20200612T180000
DTSTAMP:20260423T214006
CREATED:20200528T182502Z
LAST-MODIFIED:20200528T182610Z
UID:3372-1591981200-1591984800@universitydivers.ca
SUMMARY:Online Beach Party and Games
DESCRIPTION:Hart House Underwater Club Party! \nFriday June 12\, 5:00 pm for Happy Hour \nWe may not be able to crowd on to a dive boat this month\, but we can carry on the HHUC tradition of a great party — this time on Zoom. We’d love to see your smiling faces\, and play some party games online.\nPlease join us on Zoom on Friday June 12 at 5:00 pm for Happy Hour. \n\nTheme: Beach Party!\nAttire: Dress up for the Beach — especially in a crazy hat 👒\nDate: Friday\, June 12\, 2020\nTime: Happy Hour 5:00 pm 🍸\nBYOB: Beach cocktails (maybe with cocktail umbrellas!)\, Snacks\, Beach attire\nLogin:\nhttps://bioconnect.zoom.us/j/94536021033?pwd=NXhuZnpOUWp5V1g5dUw2YWtpNHp3QT09 \n– If you need a password\, use: HHUC \nRSVP: moc.liamgnull@inmulAcuhh \nSee you then!
URL:https://universitydivers.ca/event/online-beach-party-and-games/
CATEGORIES:Social
END:VEVENT
BEGIN:VEVENT
DTSTART;TZID=America/New_York:20200208T183000
DTEND;TZID=America/New_York:20200208T223000
DTSTAMP:20260423T214006
CREATED:20200122T025255Z
LAST-MODIFIED:20201006T192517Z
UID:2748-1581186600-1581201000@universitydivers.ca
SUMMARY:Curling Night
DESCRIPTION:Announcing The 10th Annual Hart House Underwater Club Curling\, Feb. 8\, 2020 — An event for members\, students\, alumni and friends!  \n\n\n\n\n\n\n\n\n\nHHUC Curling Event Report at King Curling Club\nby Bob Belcher\, NAUI 3836 \nOn February 8\, 2020\, twenty-six members and friends of the Club enjoyed another curling evening and social at the KCC.The event started with the usual orientation and safety reminders and then the gang dove onto the ice. Many Club members have taken part several times before (this is the 10th year for HHUC Curling)\, and they only needed a quick review before getting into games. About another dozen participants needed more instruction and practice before joining in with the competitions. Everyone learned very quickly including young Emma Gibson who exclaimed “curling is my new favourite sport”.The games were lively with some amazing shot-making by people who curl no more than once a year. Afterward\, the curlers adjourned to the curling lounge for pot luck snacks and beverages. \nMany in the gathering wanted to have another curling evening before the season ended. Those plans were dashed by the facility closure due to the pandemic. \nThanks to everyone who participated including: left to right:\nFront row – Sarah Komljanec\nMiddle row – Michael Ding\, Crystal Liu\, Sara Brown\, Sonya Elliott\, Jim Elliott\, Tony Komljanec\, Rebecca Metcalfe\, Cynthia Percival\, Liana Buck\, Peggy Belcher\nBack row – Sarah Gibson\, David Hymers\, Ian Thompson\, Dave Tanner\, Jim Colquhoun\, Les Buck. \nSpecial thanks to Bob and Carol Sharer who volunteered in the bar and kitchen. \nMake sure you are in the picture next year!  Curling is a sport for all ages.\n\n\n\n\n\n\n\nDeadline for registration is Feb 24\, 2020. \nCome and join your Scuba friends in a game of curling\, and a night of socializing.\n\n \n\nDate: Saturday\, Feb. 8\, 2020\nTime:\nCurling:  6:30 – 9:00 pm\nSocial:   9:00 – 11:00 pm  \nLocation:\nKing Curling Club\, Trisan Centre\n25 Dillane Drive Schomberg\, Ontario\nhttp://kingcurling.com  \nCurling Experience:\nNo prior experience is necessary.\nThe event begins with some instructional orientation and a lesson if needed.   \nWhat to bring:\nPlease bring a snack to share. \n \nEquipment:\nBrooms\, sliders\, rocks and rink provided\nWear warm clothes in layers\nMore info on equipment and other details will be sent directly to those who register. \nCost:\nSocial-Only $5\,\nStudents $10\,\nHHUC Members $15\,\nNon-Members $20  \nRegistration:\nSpace is limited. REGISTER NOW by contacting:\nHHUC member Bob Belcher at 905 859-4013\nor email ac.ocitapmysnull@mafleb\nMore details will be sent out upon registration. \nCarpooling:\nWe will do our best to arrange carpooling if you need that.
URL:https://universitydivers.ca/event/curling-night/
LOCATION:King Curling Club\, Trisan Centre  25 Dillane Drive Schomberg\, Ontario  http://kingcurling.com
CATEGORIES:Social
ATTACH;FMTTYPE=image/png:https://universitydivers.ca/wp-content/uploads/2020/01/scuba-curling.png
END:VEVENT
BEGIN:VEVENT
DTSTART;TZID=America/New_York:20200116T210000
DTEND;TZID=America/New_York:20200116T220000
DTSTAMP:20260423T214006
CREATED:20200122T030753Z
LAST-MODIFIED:20200122T030753Z
UID:2755-1579208400-1579212000@universitydivers.ca
SUMMARY:Sustainable Seafood Night
DESCRIPTION:Sustainable Seafood Night\, \nThursday\, Jan. 16\, 2020\n \n\nJoin us on Thursday\, January 16\, 2020 at 9:00 pm in the Bickersteth Room (3rd floor) Hart House\, to bring in the new year for HHUC. \n \nWe are celebrating sustainable seafood.\nBring your own dinner or snacks to eat and share. \nConsider earth-friendly options\, and/or sustainable seafood. \n \nBring a little extra to share.  Bring your own non-alcoholic beverage too. We can put extra food on a communal platter to share.  People should bring their own dishes and cutlery\, and a bag to take your stuff home to wash it at home.\n \n\n\nJanuary 16\, 2020 \nLet’s all bring one or more of the following: \n1 – a tip for sustainable seafood\, or \n2 – a description of your favourite seafood (did you find it on the Pocket Guide? Will this affect your choice in future?)\, or \n3 – a yummy sustainable seafood recipe\, or\n4 – sustainable seafood to share!\n\n\n\n\n \nHere are some things to consider and learn about for our first social gathering of 2020 …  \n \n\nWhat is sustainable seafood?\nSustainable seafood is fish or shellfish caught in a manner that can be sustained over the long-term without compromising the health of marine ecosystems. \n \n\nHow to choose\nChoosing sustainable seafood is a simple and effective action that you can take every time you eat at a restaurant or buy seafood at your local grocer. \nTry Canada’s Seafood Guide: Find out the “Best Choice” seafood options in this pocket guide.\nhttps://livingoceans.org/sites/default/files/sustainable-seafood_reports_SushiGuide.pdf\n\nAlways ask: \n– what fish is this? \n– where and how was it caught or farmed? \n \nHere’s an article with more info: \nhttps://www.chatelaine.com/food/buying-sustainable-fish-in-canada/ \nor google “Sustainable Seafood Canada”\n \nThe SeaChoice website is a resource for learning more about sustainable seafood\, and for finding out what other actions you can take as a consumer to support sustainable fisheries and healthy oceans. \nhttp://www.SeaChoice.org\n\n \n\nHere’s the link to Canada’s In-depth Guide to Sustainable Seafood to educate yourself about issues around sustainable seafood: \nhttps://www.livingoceans.org/sites/default/files/Canada_s_In-depth_Guide_to_Sustainable_Seafood.pdf
URL:https://universitydivers.ca/event/sustainable-seafood-night/
LOCATION:Bickersteth Room\, Hart House
CATEGORIES:Social
END:VEVENT
END:VCALENDAR