BEGIN:VCALENDAR
VERSION:2.0
PRODID:-//HART HOUSE UNDERWATER CLUB - ECPv6.15.20//NONSGML v1.0//EN
CALSCALE:GREGORIAN
METHOD:PUBLISH
X-ORIGINAL-URL:https://universitydivers.ca
X-WR-CALDESC:Events for HART HOUSE UNDERWATER CLUB
REFRESH-INTERVAL;VALUE=DURATION:PT1H
X-Robots-Tag:noindex
X-PUBLISHED-TTL:PT1H
BEGIN:VTIMEZONE
TZID:America/New_York
BEGIN:DAYLIGHT
TZOFFSETFROM:-0500
TZOFFSETTO:-0400
TZNAME:EDT
DTSTART:20210314T070000
END:DAYLIGHT
BEGIN:STANDARD
TZOFFSETFROM:-0400
TZOFFSETTO:-0500
TZNAME:EST
DTSTART:20211107T060000
END:STANDARD
BEGIN:DAYLIGHT
TZOFFSETFROM:-0500
TZOFFSETTO:-0400
TZNAME:EDT
DTSTART:20220313T070000
END:DAYLIGHT
BEGIN:STANDARD
TZOFFSETFROM:-0400
TZOFFSETTO:-0500
TZNAME:EST
DTSTART:20221106T060000
END:STANDARD
BEGIN:DAYLIGHT
TZOFFSETFROM:-0500
TZOFFSETTO:-0400
TZNAME:EDT
DTSTART:20230312T070000
END:DAYLIGHT
BEGIN:STANDARD
TZOFFSETFROM:-0400
TZOFFSETTO:-0500
TZNAME:EST
DTSTART:20231105T060000
END:STANDARD
BEGIN:DAYLIGHT
TZOFFSETFROM:-0500
TZOFFSETTO:-0400
TZNAME:EDT
DTSTART:20240310T070000
END:DAYLIGHT
BEGIN:STANDARD
TZOFFSETFROM:-0400
TZOFFSETTO:-0500
TZNAME:EST
DTSTART:20241103T060000
END:STANDARD
END:VTIMEZONE
BEGIN:VEVENT
DTSTART;TZID=America/New_York:20231217T170000
DTEND;TZID=America/New_York:20231217T180000
DTSTAMP:20260423T123302
CREATED:20230824T215051Z
LAST-MODIFIED:20230824T215240Z
UID:9632-1702832400-1702836000@universitydivers.ca
SUMMARY:Fitness Sundays - Fall Last Session
DESCRIPTION:Love to swim and want to stay underwater longer? Enhance your physical fitness and enjoy the freedom of experiencing the underwater world with only a mask\, fins and snorkel. Perfect for anyone looking to build comfort and endurance through personalized coaching and structured training. This program will improve and maintain your fitness for scuba\, skin diving\, freediving and in general. \nRuns every Sunday Started September 10th\, until and  including December 17th\, 2023 \nSee: Fitness Sundays
URL:https://universitydivers.ca/event/fitness-sundays-fall-last-session/
END:VEVENT
BEGIN:VEVENT
DTSTART;VALUE=DATE:20231209
DTEND;VALUE=DATE:20231211
DTSTAMP:20260423T123302
CREATED:20231201T060200Z
LAST-MODIFIED:20231201T061402Z
UID:9703-1702080000-1702252799@universitydivers.ca
SUMMARY:NAUI / DAN Diving First Aid for Professional Divers
DESCRIPTION:Hart House Underwater Club is pleased to be offering a DAN First Aid for Diving Professionals course again this year. \nThe date has been set for Dec 9-10\, with two days of training from 8:30-4:30pm at U of T  in the Ramsay Wright Building \nSee more details here: NAUI / DAN Diving First Aid for Professional Divers &#8211; December 9th-10th \n 
URL:https://universitydivers.ca/event/naui-dan-diving-first-aid-for-professional-divers-december-9th-10th/
CATEGORIES:Training
END:VEVENT
BEGIN:VEVENT
DTSTART;TZID=America/New_York:20231128T203000
DTEND;TZID=America/New_York:20231128T230000
DTSTAMP:20260423T123302
CREATED:20230824T230641Z
LAST-MODIFIED:20230824T230641Z
UID:9645-1701203400-1701212400@universitydivers.ca
SUMMARY:Last Class - SCUBA Diver Course - Fall 2023
DESCRIPTION:Last class of SCUBA Diver Course – Fall 2023. \nThis 10 week program covers the needed confined water (pool) and classroom portion of the NAUI SCUBA Diver Certification. \nFall Course: (10 weeks) \nFirst Class: September 19th \nReading week: (no class) November 7th \nLast Class: November 28th \nSee: Learn to SCUBA Dive
URL:https://universitydivers.ca/event/last-class-scuba-diver-course-fall-2023/
END:VEVENT
BEGIN:VEVENT
DTSTART;TZID=America/New_York:20231107T203000
DTEND;TZID=America/New_York:20231107T230000
DTSTAMP:20260423T123302
CREATED:20230824T230142Z
LAST-MODIFIED:20230824T230433Z
UID:9640-1699389000-1699398000@universitydivers.ca
SUMMARY:Reading Week - No Class - SCUBA Diver Course - Fall 2023
DESCRIPTION:NO CLASSES THIS WEEK for the SCUBA Diver Course – Fall 2023. \nThis 10 week program covers the needed confined water (pool) and classroom portion of the NAUI SCUBA Diver Certification. \nFall Course: (10 weeks) \nFirst Class: September 19th \nReading week: (no class) November 7th \nLast Class: November 28th \nSee: Learn to SCUBA Dive
URL:https://universitydivers.ca/event/reading-week-no-class-fall-scuba-diver-course/
END:VEVENT
BEGIN:VEVENT
DTSTART;TZID=America/New_York:20230924T170000
DTEND;TZID=America/New_York:20230924T180000
DTSTAMP:20260423T123302
CREATED:20230824T214839Z
LAST-MODIFIED:20230906T124343Z
UID:9630-1695574800-1695578400@universitydivers.ca
SUMMARY:Fitness Sundays - Fall 2023 - Open Event
DESCRIPTION:Fall Try it Out Open Event: \nCome check out the Fitness Sundays program before becoming a member. \nIf you are not an Underwater Club Member (or enrolled in the Learn to SCUBA Dive course) and wish to come as a guest to try things out\, we have a free try session on September 24th. Please  contact Martin by latest September 19th and let him know you wish to come. \nLove to swim and want to stay underwater longer? Enhance your physical fitness and enjoy the freedom of experiencing the underwater world with only a mask\, fins and snorkel. Perfect for anyone looking to build comfort and endurance through personalized coaching and structured training. This program will improve and maintain your fitness for scuba\, skin diving\, freediving and in general. \n  \nSee: Fitness Sundays
URL:https://universitydivers.ca/event/fitness-sundays-fall-2023-open-event/
CATEGORIES:Training,UWH
END:VEVENT
BEGIN:VEVENT
DTSTART;TZID=America/New_York:20230923T170000
DTEND;TZID=America/New_York:20230923T180000
DTSTAMP:20260423T123302
CREATED:20230824T231355Z
LAST-MODIFIED:20230906T151845Z
UID:9647-1695488400-1695492000@universitydivers.ca
SUMMARY:Under Water Hockey - Open Event - Fall 2023
DESCRIPTION:Fall Try it Out Open Event: \nWant to try something new and exciting? \nCome check out the Underwater Hockey program before becoming a member. \nIf you are not an Underwater Club Member (or enrolled in the Learn to SCUBA Dive course) and wish to come as a guest to try things out\, we have a free try session on September 23rd. Please  contact UWH by latest September 19th and let us know you wish to come. \nSee: Underwater Hockey for more details.
URL:https://universitydivers.ca/event/underwater-hockey-open-event-fall-2023/
CATEGORIES:UWH
END:VEVENT
BEGIN:VEVENT
DTSTART;TZID=America/New_York:20230919T203000
DTEND;TZID=America/New_York:20230919T230000
DTSTAMP:20260423T123302
CREATED:20230824T225909Z
LAST-MODIFIED:20230824T234430Z
UID:9635-1695155400-1695164400@universitydivers.ca
SUMMARY:Start - SCUBA Diver Course - Fall 2023
DESCRIPTION:First class of SCUBA Diver Course – Fall 2023. \nThis 10 week program covers the needed confined water (pool) and classroom portion of the NAUI SCUBA Diver Certification. \nFall Course: (10 weeks) \nFirst Class: September 19th \nReading week: (no class) November 7th \nLast Class: November 28th \nSee: Learn to SCUBA Dive
URL:https://universitydivers.ca/event/start-scuba-class-fall-2023/
CATEGORIES:Scuba Course,Training
END:VEVENT
BEGIN:VEVENT
DTSTART;TZID=America/New_York:20230910T170000
DTEND;TZID=America/New_York:20230910T180000
DTSTAMP:20260423T123302
CREATED:20230824T214603Z
LAST-MODIFIED:20230906T124419Z
UID:9628-1694365200-1694368800@universitydivers.ca
SUMMARY:Start - Fitness Sundays - Fall 2023
DESCRIPTION:First Session of the Fall 2023 Fitness Sundays program. \nLove to swim and want to stay underwater longer? Enhance your physical fitness and enjoy the freedom of experiencing the underwater world with only a mask\, fins and snorkel. Perfect for anyone looking to build comfort and endurance through personalized coaching and structured training. This program will improve and maintain your fitness for scuba\, skin diving\, freediving and in general. \nRuns every Sunday until December 16th\, 2023 \nSee: Fitness Sundays
URL:https://universitydivers.ca/event/fitness-sundays-fall-2023-start/
CATEGORIES:Fitness Sundays,Training
END:VEVENT
BEGIN:VEVENT
DTSTART;TZID=America/New_York:20230909T170000
DTEND;TZID=America/New_York:20230909T180000
DTSTAMP:20260423T123302
CREATED:20230824T232035Z
LAST-MODIFIED:20230906T124653Z
UID:9650-1694278800-1694282400@universitydivers.ca
SUMMARY:Start - Under Water Hockey - Fall 2023
DESCRIPTION:First Session of Underwater Hockey Fall 2023 \nCome join us for an fun and exciting sport. \nFall: September 9th – December 16th Saturdays 5-6:15pm \nSee: Underwater Hockey for more details
URL:https://universitydivers.ca/event/start-under-water-hockey-fall-2023/
CATEGORIES:UWH
END:VEVENT
BEGIN:VEVENT
DTSTART;TZID=America/New_York:20230908T000000
DTEND;TZID=America/New_York:20230908T000000
DTSTAMP:20260423T123302
CREATED:20230906T175314Z
LAST-MODIFIED:20230906T175314Z
UID:9667-1694131200-1694131200@universitydivers.ca
SUMMARY:SCUBA Diver Fall Course Registration Opens
DESCRIPTION:Registration for the Fall SCUBA Course opens. \nCourse details \nRegistration link \n(Reminder: Login  with your UTORID to get U of T Student pricing)
URL:https://universitydivers.ca/event/scuba-diver-fall-course-registration-opens/
CATEGORIES:Scuba Course,Training
END:VEVENT
BEGIN:VEVENT
DTSTART;TZID=America/New_York:20230906T130000
DTEND;TZID=America/New_York:20230906T160000
DTSTAMP:20260423T123302
CREATED:20230906T173104Z
LAST-MODIFIED:20230906T173104Z
UID:9664-1694005200-1694016000@universitydivers.ca
SUMMARY:Clubs Day 2023 Today
DESCRIPTION:U of T Clubs day: \nCome out and talk to some of our members about the club.  We have a table set up (as part of Hart House) in front of the Lash Miller building on St. George from 1-4pm. \nMore details here: Clubs Day 2023
URL:https://universitydivers.ca/event/clubs-day-2023-today/
END:VEVENT
BEGIN:VEVENT
DTSTART;TZID=America/New_York:20230401T170000
DTEND;TZID=America/New_York:20230401T181500
DTSTAMP:20260423T123302
CREATED:20221217T235156Z
LAST-MODIFIED:20230123T200447Z
UID:8905-1680368400-1680372900@universitydivers.ca
SUMMARY:Underwater Hockey\, Saturday nights this winter\, 5:00-6:15 pm - Please check the dates below
DESCRIPTION:Underwater Hockey\, Saturday nights\, 5:00 – 6:15 pm \nWinter Course 1: January/February 2023 – $60 to public\, free for HHUC members:\nJan 14\,  Jan 21\,  Jan 28\,  Feb 4\,  Feb 11\,  Feb 18 \nWinter Course 2: March/April 2023 – $60 to public\, free for HHUC members:\nMarch 4\,  March 11\,  March 18\,  April 1\,  April 15\, April 29
URL:https://universitydivers.ca/event/underwater-hockey-saturday-nights-this-winter-545-700-pm-please-check-the-dates/
CATEGORIES:UWH
ATTACH;FMTTYPE=image/png:https://universitydivers.ca/wp-content/uploads/2022/09/uwh-faceoff.png
END:VEVENT
BEGIN:VEVENT
DTSTART;TZID=America/New_York:20230307T200000
DTEND;TZID=America/New_York:20230307T230000
DTSTAMP:20260423T123302
CREATED:20221218T001709Z
LAST-MODIFIED:20221218T001709Z
UID:8917-1678219200-1678230000@universitydivers.ca
SUMMARY:Learn to Scuba\, Tuesdays and Thursdays this month
DESCRIPTION:The pool sessions for the Winter Scuba Training Course starts Tuesday\, Jan. 17\, 2023\, 8:00-11:00 pm at the Athletic Centre pool (1 hour tutorial on the pool deck\, followed by 2 hours in the pool)\nThe course runs to Tuesday\, March 28\, 2023\, with the exception of the February Reading Week on Tuesday\, Feb. 21\, 2023. \nZoom Classroom sessions will be held on Thursday evenings from 7:30-9:00 pm on Zoom.
URL:https://universitydivers.ca/event/learn-to-scuba-tuesdays-and-thursdays-this-month/
CATEGORIES:Scuba Course,Training
ATTACH;FMTTYPE=image/jpeg:https://universitydivers.ca/wp-content/uploads/2022/12/HHUC-group-photo-underwater-with-naui-banner-scaled.jpg
END:VEVENT
BEGIN:VEVENT
DTSTART;TZID=America/New_York:20230305T170000
DTEND;TZID=America/New_York:20230305T180000
DTSTAMP:20260423T123302
CREATED:20221218T002350Z
LAST-MODIFIED:20221218T002836Z
UID:8922-1678035600-1678039200@universitydivers.ca
SUMMARY:EVERY Sunday: “Fitness Sundays” in Hart House Pool
DESCRIPTION:
URL:https://universitydivers.ca/event/every-sunday-fitness-sundays-in-hart-house-pool-2/
CATEGORIES:Other Activities
END:VEVENT
BEGIN:VEVENT
DTSTART;TZID=America/New_York:20230304T170000
DTEND;TZID=America/New_York:20230304T181500
DTSTAMP:20260423T123302
CREATED:20221217T234706Z
LAST-MODIFIED:20230123T200640Z
UID:8901-1677949200-1677953700@universitydivers.ca
SUMMARY:Underwater Hockey\, Saturday nights this winter\, 5:00-6:15 pm  -  Please check the dates below
DESCRIPTION:Underwater Hockey\, Saturday nights \nWinter Course 1: January/February 2023 – $60 to public\, free for HHUC members:\nJan 14\,  Jan 21\,  Jan 28\,  Feb 4\,  Feb 11\,  Feb 18 \nWinter Course 2: March/April 2023 – $60 to public\, free for HHUC members:\nMarch 4\,  March 11\,  March 18\,  April 1\,  April 15\, April 29
URL:https://universitydivers.ca/event/underwater-hockey-saturday-nights-this-winter-545-700-pm-check-dates/
CATEGORIES:UWH
ATTACH;FMTTYPE=image/png:https://universitydivers.ca/wp-content/uploads/2022/09/uwh-faceoff.png
END:VEVENT
BEGIN:VEVENT
DTSTART;VALUE=DATE:20230304
DTEND;VALUE=DATE:20230305
DTSTAMP:20260423T123302
CREATED:20230208T031642Z
LAST-MODIFIED:20230208T031642Z
UID:9295-1677888000-1677974399@universitydivers.ca
SUMMARY:Underwater Hockey: Referee Presentation
DESCRIPTION:Contact Sergei Vilbik moc.liamgnull@hwu.cuhh \nTime: TBD – Please contact Sergei to check the exact time of this meeting.
URL:https://universitydivers.ca/event/underwater-hockey-referee-presentation/
CATEGORIES:UWH
END:VEVENT
BEGIN:VEVENT
DTSTART;TZID=America/New_York:20230207T200000
DTEND;TZID=America/New_York:20230207T230000
DTSTAMP:20260423T123302
CREATED:20221218T001318Z
LAST-MODIFIED:20221218T001442Z
UID:8915-1675800000-1675810800@universitydivers.ca
SUMMARY:Learn to Scuba\, Tuesdays & Thursdays this month
DESCRIPTION:The pool sessions for the Winter Scuba Training Course starts Tuesday\, Jan. 17\, 2023\, 8:00-11:00 pm at the Athletic Centre pool (1 hour tutorial on the pool deck\, followed by 2 hours in the pool)\nThe course runs to Tuesday\, March 28\, 2023\, with the exception of the February Reading Week on Tuesday\, Feb. 21\, 2023. \nZoom Classroom sessions will be held on Thursday evenings from 7:30-9:00 pm on Zoom.
URL:https://universitydivers.ca/event/learn-to-scuba-tuesdays-thursdays-this-month/
CATEGORIES:Scuba Course,Training
ATTACH;FMTTYPE=image/png:https://universitydivers.ca/wp-content/uploads/2022/09/pool-diver-red-mask5.png
END:VEVENT
BEGIN:VEVENT
DTSTART;TZID=America/New_York:20230205T170000
DTEND;TZID=America/New_York:20230205T180000
DTSTAMP:20260423T123302
CREATED:20221218T002143Z
LAST-MODIFIED:20221218T002143Z
UID:8919-1675616400-1675620000@universitydivers.ca
SUMMARY:EVERY Sunday: “Fitness Sundays” in Hart House Pool
DESCRIPTION:
URL:https://universitydivers.ca/event/every-sunday-fitness-sundays-in-hart-house-pool/
CATEGORIES:Other Activities
END:VEVENT
BEGIN:VEVENT
DTSTART;TZID=America/New_York:20230204T170000
DTEND;TZID=America/New_York:20230204T181500
DTSTAMP:20260423T123302
CREATED:20221217T234324Z
LAST-MODIFIED:20230123T200921Z
UID:8899-1675530000-1675534500@universitydivers.ca
SUMMARY:Underwater Hockey\, Saturday nights this winter\, 5:00-6:15 pm - Check dates below
DESCRIPTION:Underwater Hockey\, Saturday nights \nWinter Course 1: January/February 2023 – $60 to public\, free for HHUC members:\nJan 14\,  Jan 21\,  Jan 28\,  Feb 4\,  Feb 11\,  Feb 18 \nWinter Course 2: March/April 2023 – $60 to public\, free for HHUC members:\nMarch 4\,  March 11\,  March 18\,  April 1\,  April 15\, April 29
URL:https://universitydivers.ca/event/underwater-hockey-saturday-nights-this-winter-545-700-pm/
CATEGORIES:UWH
ATTACH;FMTTYPE=image/png:https://universitydivers.ca/wp-content/uploads/2022/09/uwh-faceoff.png
END:VEVENT
BEGIN:VEVENT
DTSTART;TZID=America/New_York:20230117T200000
DTEND;TZID=America/New_York:20230117T230000
DTSTAMP:20260423T123302
CREATED:20220902T205846Z
LAST-MODIFIED:20221218T002633Z
UID:7955-1673985600-1673996400@universitydivers.ca
SUMMARY:Learn to Scuba - Winter 2023 session begins Jan. 17\, 2023
DESCRIPTION:Learn to Scuba Training Course – Winter 2023 session begins Jan. 17\, 2023 \nThe Hart House Underwater Club “Learn to Scuba” training course is designed to promote safe diving practices and prepare you for a lifetime of recreational diving! After completing the classroom and pool (“confined-water”) training portions of the course\, Scuba Trainees will be required to perform open-water dives in a lake or ocean in order to attain a Scuba Diver certification issued by the National Association of Underwater Instructors (NAUI). Your scuba certification will permit you to scuba dive within the limits of your training and at recreational dive limits anywhere in the world. \nThe Winter Semester pool session for the Scuba Training Course starts Tuesday\, Jan. 17\, 2023\, 9:00 pm at the Athletic Centre pool\, and runs to Tuesday\, March 28\, 2023\, with the exception of the Fall Reading Week on Tuesday\, Feb. 21\, 2023. There will also be a Zoom classroom portion of the scuba course which will be held .on a different day of the week. \nRead more … \nLearn to SCUBA Dive \n \n 
URL:https://universitydivers.ca/event/learn-to-scuba-9/
CATEGORIES:Scuba Course,Training
END:VEVENT
BEGIN:VEVENT
DTSTART;TZID=America/New_York:20230114T170000
DTEND;TZID=America/New_York:20230114T181500
DTSTAMP:20260423T123302
CREATED:20221217T233934Z
LAST-MODIFIED:20230123T201349Z
UID:8895-1673715600-1673720100@universitydivers.ca
SUMMARY:HHUC Underwater Hockey\, Saturday nights this winter\, 5:00-6:15 - See dates below pm
DESCRIPTION:Underwater Hockey\, Saturday nights \nWinter Course 1: January/February 2023 – $60 to public\, free for HHUC members:\nJan 14\,  Jan 21\,  Jan 28\,  Feb 4\,  Feb 11\,  Feb 18 \nWinter Course 2: March/April 2023 – $60 to public\, free for HHUC members:\nMarch 4\,  March 11\,  March 18\,  April 1\,  April 15\, April 29
URL:https://universitydivers.ca/event/hhuc-underwater-hockey-saturday-nights-545-700-pm/
CATEGORIES:UWH
ATTACH;FMTTYPE=image/png:https://universitydivers.ca/wp-content/uploads/2022/09/uwh-faceoff.png
END:VEVENT
BEGIN:VEVENT
DTSTART;TZID=America/New_York:20230109T200000
DTEND;TZID=America/New_York:20230109T213000
DTSTAMP:20260423T123302
CREATED:20221218T000238Z
LAST-MODIFIED:20221218T000238Z
UID:6945-1673294400-1673299800@universitydivers.ca
SUMMARY:HHUC Executive Committee Meeting
DESCRIPTION:
URL:https://universitydivers.ca/event/hhuc-executive-committee-meeting-5/
CATEGORIES:Executive
ATTACH;FMTTYPE=image/png:https://universitydivers.ca/wp-content/uploads/2017/09/HHUC_logo_2013.png
END:VEVENT
BEGIN:VEVENT
DTSTART;TZID=America/New_York:20230108T170000
DTEND;TZID=America/New_York:20230108T180000
DTSTAMP:20260423T123302
CREATED:20221207T183825Z
LAST-MODIFIED:20221207T220547Z
UID:8776-1673197200-1673200800@universitydivers.ca
SUMMARY:EVERY Sunday: "Fitness Sundays" in Hart House Pool
DESCRIPTION:
URL:https://universitydivers.ca/event/fitness-sundays-runs-every-sunday-of-the-month/
CATEGORIES:Other Activities
ATTACH;FMTTYPE=image/jpeg:https://universitydivers.ca/wp-content/uploads/2022/09/snorkel-sunday-fitness.jpg
END:VEVENT
BEGIN:VEVENT
DTSTART;TZID=America/New_York:20221209T190000
DTEND;TZID=America/New_York:20221209T203000
DTSTAMP:20260423T123302
CREATED:20221203T183759Z
LAST-MODIFIED:20221203T183759Z
UID:8665-1670612400-1670617800@universitydivers.ca
SUMMARY:HHUC Executive Committee Meeting
DESCRIPTION:
URL:https://universitydivers.ca/event/hhuc-executive-committee-meeting-4/
CATEGORIES:Executive
ATTACH;FMTTYPE=image/png:https://universitydivers.ca/wp-content/uploads/2020/01/hhuc-logo.png
END:VEVENT
BEGIN:VEVENT
DTSTART;TZID=America/New_York:20221206T200000
DTEND;TZID=America/New_York:20221206T230000
DTSTAMP:20260423T123302
CREATED:20220926T233534Z
LAST-MODIFIED:20221218T000637Z
UID:8437-1670356800-1670367600@universitydivers.ca
SUMMARY:Learn to Scuba
DESCRIPTION:Learn to Scuba Training Course \nThe Hart House Underwater Club “Learn to Scuba” training course is designed to promote safe diving practices and prepare you for a lifetime of recreational diving! After completing the classroom and pool (“confined-water”) training portions of the course\, Scuba Trainees will be required to perform open-water dives in a lake or ocean in order to attain a Scuba Diver certification issued by the National Association of Underwater Instructors (NAUI). Your scuba certification will permit you to scuba dive within the limits of your training and at recreational dive limits anywhere in the world. \nRead more … \nLearn to SCUBA Dive
URL:https://universitydivers.ca/event/learn-to-scuba-12/
CATEGORIES:Training
END:VEVENT
BEGIN:VEVENT
DTSTART;TZID=America/New_York:20221204T180000
DTEND;TZID=America/New_York:20221204T190000
DTSTAMP:20260423T123302
CREATED:20220914T224251Z
LAST-MODIFIED:20220930T000858Z
UID:8250-1670176800-1670180400@universitydivers.ca
SUMMARY:Fitness Sundays – Runs every Sunday of the month
DESCRIPTION:Fitness Sundays
URL:https://universitydivers.ca/event/snorkel-sunday-fitness-runs-every-sunday-of-the-month-2/
CATEGORIES:Other Activities
ATTACH;FMTTYPE=image/jpeg:https://universitydivers.ca/wp-content/uploads/2021/11/uwh-pool-time.jpg
END:VEVENT
BEGIN:VEVENT
DTSTART;TZID=America/New_York:20221203T174500
DTEND;TZID=America/New_York:20221203T190000
DTSTAMP:20260423T123302
CREATED:20221104T125118Z
LAST-MODIFIED:20221104T125118Z
UID:8603-1670089500-1670094000@universitydivers.ca
SUMMARY:Underwater Hockey November/December 2022 - Every Saturday until Dec. 17
DESCRIPTION:Underwater Hockey
URL:https://universitydivers.ca/event/underwater-hockey-november-december-2022-every-saturday-until-dec-17/
CATEGORIES:UWH
ATTACH;FMTTYPE=image/png:https://universitydivers.ca/wp-content/uploads/2022/09/uwh-faceoff.png
END:VEVENT
BEGIN:VEVENT
DTSTART;TZID=America/New_York:20221201T193000
DTEND;TZID=America/New_York:20221201T230000
DTSTAMP:20260423T123302
CREATED:20221012T155350Z
LAST-MODIFIED:20221104T125325Z
UID:8547-1669923000-1669935600@universitydivers.ca
SUMMARY:Holiday Party\, Recognition Night & AGM 2022
DESCRIPTION:December Holiday Party\, Recognition Night Celebrations & AGM
URL:https://universitydivers.ca/event/agm-recognition-night-holiday-party-2022/
CATEGORIES:Social
ATTACH;FMTTYPE=image/png:https://universitydivers.ca/wp-content/uploads/2020/09/hhuc-agm-uw.png
END:VEVENT
BEGIN:VEVENT
DTSTART;TZID=America/New_York:20221129T200000
DTEND;TZID=America/New_York:20221129T230000
DTSTAMP:20260423T123302
CREATED:20220902T205958Z
LAST-MODIFIED:20220929T123730Z
UID:7958-1669752000-1669762800@universitydivers.ca
SUMMARY:Learn to Scuba
DESCRIPTION:Learn to Scuba Training Course \nThe Hart House Underwater Club “Learn to Scuba” training course is designed to promote safe diving practices and prepare you for a lifetime of recreational diving! After completing the classroom and pool (“confined-water”) training portions of the course\, Scuba Trainees will be required to perform open-water dives in a lake or ocean in order to attain a Scuba Diver certification issued by the National Association of Underwater Instructors (NAUI). Your scuba certification will permit you to scuba dive within the limits of your training and at recreational dive limits anywhere in the world. \nRead more … \nLearn to SCUBA Dive \n \n 
URL:https://universitydivers.ca/event/learn-to-scuba-10/
CATEGORIES:Scuba Course,Training
END:VEVENT
BEGIN:VEVENT
DTSTART;TZID=America/New_York:20221122T200000
DTEND;TZID=America/New_York:20221122T230000
DTSTAMP:20260423T123302
CREATED:20220902T210126Z
LAST-MODIFIED:20220929T123900Z
UID:7961-1669147200-1669158000@universitydivers.ca
SUMMARY:Learn to Scuba
DESCRIPTION:Learn to Scuba Training Course \nThe Hart House Underwater Club “Learn to Scuba” training course is designed to promote safe diving practices and prepare you for a lifetime of recreational diving! After completing the classroom and pool (“confined-water”) training portions of the course\, Scuba Trainees will be required to perform open-water dives in a lake or ocean in order to attain a Scuba Diver certification issued by the National Association of Underwater Instructors (NAUI). Your scuba certification will permit you to scuba dive within the limits of your training and at recreational dive limits anywhere in the world. \nRead more … \nLearn to SCUBA Dive \n \n 
URL:https://universitydivers.ca/event/learn-to-scuba-11/
CATEGORIES:Scuba Course,Training
END:VEVENT
END:VCALENDAR