BEGIN:VCALENDAR
VERSION:2.0
PRODID:-//HART HOUSE UNDERWATER CLUB - ECPv6.15.20//NONSGML v1.0//EN
CALSCALE:GREGORIAN
METHOD:PUBLISH
X-ORIGINAL-URL:https://universitydivers.ca
X-WR-CALDESC:Events for HART HOUSE UNDERWATER CLUB
REFRESH-INTERVAL;VALUE=DURATION:PT1H
X-Robots-Tag:noindex
X-PUBLISHED-TTL:PT1H
BEGIN:VTIMEZONE
TZID:America/New_York
BEGIN:DAYLIGHT
TZOFFSETFROM:-0500
TZOFFSETTO:-0400
TZNAME:EDT
DTSTART:20200308T070000
END:DAYLIGHT
BEGIN:STANDARD
TZOFFSETFROM:-0400
TZOFFSETTO:-0500
TZNAME:EST
DTSTART:20201101T060000
END:STANDARD
BEGIN:DAYLIGHT
TZOFFSETFROM:-0500
TZOFFSETTO:-0400
TZNAME:EDT
DTSTART:20210314T070000
END:DAYLIGHT
BEGIN:STANDARD
TZOFFSETFROM:-0400
TZOFFSETTO:-0500
TZNAME:EST
DTSTART:20211107T060000
END:STANDARD
BEGIN:DAYLIGHT
TZOFFSETFROM:-0500
TZOFFSETTO:-0400
TZNAME:EDT
DTSTART:20220313T070000
END:DAYLIGHT
BEGIN:STANDARD
TZOFFSETFROM:-0400
TZOFFSETTO:-0500
TZNAME:EST
DTSTART:20221106T060000
END:STANDARD
BEGIN:DAYLIGHT
TZOFFSETFROM:-0500
TZOFFSETTO:-0400
TZNAME:EDT
DTSTART:20230312T070000
END:DAYLIGHT
BEGIN:STANDARD
TZOFFSETFROM:-0400
TZOFFSETTO:-0500
TZNAME:EST
DTSTART:20231105T060000
END:STANDARD
END:VTIMEZONE
BEGIN:VEVENT
DTSTART;TZID=America/New_York:20220329T190000
DTEND;TZID=America/New_York:20220329T210000
DTSTAMP:20260423T201316
CREATED:20220212T004235Z
LAST-MODIFIED:20220212T004533Z
UID:6988-1648580400-1648587600@universitydivers.ca
SUMMARY:Event: Inner Space Seminar - Vessels of the Great Lakes during WW1
DESCRIPTION:https://universitydivers.ca/vessels/
URL:https://universitydivers.ca/event/event-inner-space-seminar-vessels-of-the-great-lakes-during-ww1/
CATEGORIES:Other Activities
END:VEVENT
BEGIN:VEVENT
DTSTART;TZID=America/New_York:20220322T190000
DTEND;TZID=America/New_York:20220322T210000
DTSTAMP:20260423T201316
CREATED:20220211T165922Z
LAST-MODIFIED:20220212T005115Z
UID:6964-1647975600-1647982800@universitydivers.ca
SUMMARY:Event: Inner Space Seminar - Freediving on the Niagara II Ice Expedition
DESCRIPTION:Inner Space Seminar: Freediving on the Niagara II Ice Expedition
URL:https://universitydivers.ca/event/event-inner-space-seminar-freediving-on-the-niagara-ii-ice-expedition/
CATEGORIES:Other Activities
END:VEVENT
BEGIN:VEVENT
DTSTART;TZID=America/New_York:20220314T190000
DTEND;TZID=America/New_York:20220314T210000
DTSTAMP:20260423T201316
CREATED:20220211T024930Z
LAST-MODIFIED:20220212T004935Z
UID:6936-1647284400-1647291600@universitydivers.ca
SUMMARY:Event: Inner Space Seminar - The Great Storm of 1893 and the shipwreck Riverside
DESCRIPTION:Inner Space Seminar: The Great Storm of 1893 and the wreck of the “Riverside”
URL:https://universitydivers.ca/event/event-inner-space-seminar-the-great-storm-of-1892-and-the-riverside/
CATEGORIES:Other Activities
END:VEVENT
BEGIN:VEVENT
DTSTART;TZID=America/New_York:20220301T190000
DTEND;TZID=America/New_York:20220301T210000
DTSTAMP:20260423T201316
CREATED:20220211T025523Z
LAST-MODIFIED:20220212T004816Z
UID:6940-1646161200-1646168400@universitydivers.ca
SUMMARY:Event: Inner Space Seminar - Exploring Underwater Caves with Natalie Gibb
DESCRIPTION:Inner Space Seminar: Exploring Underwater Caves with Natalie Gibb
URL:https://universitydivers.ca/event/event-inner-space-seminar-exploring-underwater-caves-with-natalie-gibb/
CATEGORIES:Other Activities
END:VEVENT
BEGIN:VEVENT
DTSTART;TZID=America/New_York:20220221T190000
DTEND;TZID=America/New_York:20220221T210000
DTSTAMP:20260423T201316
CREATED:20220210T200538Z
LAST-MODIFIED:20220212T004707Z
UID:6901-1645470000-1645477200@universitydivers.ca
SUMMARY:Event: Inner Space Seminar - Fire & Fluids in Space\, Feb. 21\, 2022
DESCRIPTION:Inner Space Seminar: Fire and Fluids in Space: Experiments on the International Space Station
URL:https://universitydivers.ca/event/inner-space-seminar-fire-fluids-in-space-feb-21-2022/
CATEGORIES:Other Activities
END:VEVENT
BEGIN:VEVENT
DTSTART;TZID=America/New_York:20220208T190000
DTEND;TZID=America/New_York:20220208T200000
DTSTAMP:20260423T201316
CREATED:20220212T021450Z
LAST-MODIFIED:20220212T021450Z
UID:7005-1644346800-1644350400@universitydivers.ca
SUMMARY:HHUC Exective Meeting
DESCRIPTION:
URL:https://universitydivers.ca/event/hhuc-exective-meeting/
CATEGORIES:Executive
ATTACH;FMTTYPE=image/png:https://universitydivers.ca/wp-content/uploads/2017/09/HHUC_logo_2013.png
END:VEVENT
BEGIN:VEVENT
DTSTART;TZID=America/New_York:20211220T190000
DTEND;TZID=America/New_York:20211220T210000
DTSTAMP:20260423T201316
CREATED:20211126T182938Z
LAST-MODIFIED:20211126T182938Z
UID:6723-1640026800-1640034000@universitydivers.ca
SUMMARY:HHUC Executive Committee
DESCRIPTION:
URL:https://universitydivers.ca/event/hhuc-executive-committee/
CATEGORIES:Executive
ATTACH;FMTTYPE=image/png:https://universitydivers.ca/wp-content/uploads/2020/01/hhuc-logo.png
END:VEVENT
BEGIN:VEVENT
DTSTART;TZID=America/New_York:20211202T190000
DTEND;TZID=America/New_York:20211202T210000
DTSTAMP:20260423T201316
CREATED:20211102T142505Z
LAST-MODIFIED:20220622T125514Z
UID:6646-1638471600-1638478800@universitydivers.ca
SUMMARY:Online Social Event with HHUC\, Thursday\, Dec. 2\, 2021 at 7:00 pm
DESCRIPTION:Come and get to know the Hart House Underwater Club \n \n\n\nThis event is open to everyone! Join us on Thursday\, Dec. 2 to meet club members\, chat about diving and participate in our latest trivia contest. This is a great opportunity for new and prospective members to learn about HHUC and our plans for scuba training and diving.\n \n\nJoin the Zoom meeting: https://utoronto.zoom.us/j/81212264909 Meeting ID: 812 1226 4909 Passcode: 237289 \nAre you a diver or non-diver? Are you a UofT student? Or a member of the general public? Are you a member of HHUC or not? Never mind — You are all welcome! All you need is a feeling of fun\, curiosity\, adventure and friendship. We look forward to meeting you! \n 
URL:https://universitydivers.ca/event/party/
CATEGORIES:Social
ATTACH;FMTTYPE=image/jpeg:https://universitydivers.ca/wp-content/uploads/2021/11/zoom-social.jpg
END:VEVENT
BEGIN:VEVENT
DTSTART;TZID=America/New_York:20211125T190000
DTEND;TZID=America/New_York:20211125T210000
DTSTAMP:20260423T201316
CREATED:20211102T143917Z
LAST-MODIFIED:20211102T143917Z
UID:6649-1637866800-1637874000@universitydivers.ca
SUMMARY:HHUC Executive Meeting
DESCRIPTION:
URL:https://universitydivers.ca/event/hhuc-executive-meeting-4/
CATEGORIES:Executive
ATTACH;FMTTYPE=image/png:https://universitydivers.ca/wp-content/uploads/2020/01/hhuc-logo.png
END:VEVENT
BEGIN:VEVENT
DTSTART;TZID=America/New_York:20211020T190000
DTEND;TZID=America/New_York:20211020T210000
DTSTAMP:20260423T201316
CREATED:20211009T204153Z
LAST-MODIFIED:20211009T204153Z
UID:6607-1634756400-1634763600@universitydivers.ca
SUMMARY:HHUC Executive Meeting
DESCRIPTION:
URL:https://universitydivers.ca/event/hhuc-executive-meeting-2/
CATEGORIES:Executive
ATTACH;FMTTYPE=image/png:https://universitydivers.ca/wp-content/uploads/2020/01/hhuc-logo.png
END:VEVENT
BEGIN:VEVENT
DTSTART;TZID=America/New_York:20210921T190000
DTEND;TZID=America/New_York:20210921T210000
DTSTAMP:20260423T201316
CREATED:20210806T025728Z
LAST-MODIFIED:20210806T025728Z
UID:6380-1632250800-1632258000@universitydivers.ca
SUMMARY:HHUC Executive Meeting
DESCRIPTION:
URL:https://universitydivers.ca/event/hhuc-executive-meeting/
CATEGORIES:Executive
ATTACH;FMTTYPE=image/png:https://universitydivers.ca/wp-content/uploads/2017/09/HHUC_logo_2013.png
END:VEVENT
BEGIN:VEVENT
DTSTART;TZID=America/New_York:20210803T190000
DTEND;TZID=America/New_York:20210803T210000
DTSTAMP:20260423T201316
CREATED:20210714T141317Z
LAST-MODIFIED:20210714T141317Z
UID:6182-1628017200-1628024400@universitydivers.ca
SUMMARY:Executive Committee meeting
DESCRIPTION:
URL:https://universitydivers.ca/event/executive-committee-meeting-6/
CATEGORIES:Executive
ATTACH;FMTTYPE=image/png:https://universitydivers.ca/wp-content/uploads/2020/01/hhuc-logo.png
END:VEVENT
BEGIN:VEVENT
DTSTART;TZID=America/New_York:20210512T190000
DTEND;TZID=America/New_York:20210512T210000
DTSTAMP:20260423T201316
CREATED:20210509T144830Z
LAST-MODIFIED:20210509T144830Z
UID:6126-1620846000-1620853200@universitydivers.ca
SUMMARY:Executive Committee meeting
DESCRIPTION:
URL:https://universitydivers.ca/event/executive-committee-meeting-5/
CATEGORIES:Executive
ATTACH;FMTTYPE=image/png:https://universitydivers.ca/wp-content/uploads/2020/01/hhuc-logo.png
END:VEVENT
BEGIN:VEVENT
DTSTART;TZID=America/New_York:20210427T190000
DTEND;TZID=America/New_York:20210427T210000
DTSTAMP:20260423T201316
CREATED:20210311T182103Z
LAST-MODIFIED:20210311T182248Z
UID:5859-1619550000-1619557200@universitydivers.ca
SUMMARY:Diving Safely During Covid Seminar
DESCRIPTION:Inner Space Seminar: Return to Diving Post-Covid
URL:https://universitydivers.ca/event/diving-safely-during-covid-seminar/
CATEGORIES:Training
ATTACH;FMTTYPE=image/jpeg:https://universitydivers.ca/wp-content/uploads/2017/09/IMG_20160730_184938.jpg
END:VEVENT
BEGIN:VEVENT
DTSTART;TZID=America/New_York:20210420T190000
DTEND;TZID=America/New_York:20210420T210000
DTSTAMP:20260423T201316
CREATED:20210219T225741Z
LAST-MODIFIED:20210311T184629Z
UID:5609-1618945200-1618952400@universitydivers.ca
SUMMARY:Engineering Inspirations Seminar
DESCRIPTION:Inner Space Seminar: Engineering Inspiration\, Tuesday\, April 20\, 2021
URL:https://universitydivers.ca/event/underwater-robotics-seminar/
CATEGORIES:Training
ATTACH;FMTTYPE=image/jpeg:https://universitydivers.ca/wp-content/uploads/2021/02/underwater.jpg
END:VEVENT
BEGIN:VEVENT
DTSTART;TZID=America/New_York:20210414T190000
DTEND;TZID=America/New_York:20210414T210000
DTSTAMP:20260423T201316
CREATED:20210311T182508Z
LAST-MODIFIED:20210311T182508Z
UID:5862-1618426800-1618434000@universitydivers.ca
SUMMARY:Executive Committee meeting
DESCRIPTION:
URL:https://universitydivers.ca/event/executive-committee-meeting-4/
CATEGORIES:Executive
ATTACH;FMTTYPE=image/png:https://universitydivers.ca/wp-content/uploads/2020/01/hhuc-logo.png
END:VEVENT
BEGIN:VEVENT
DTSTART;TZID=America/New_York:20210413T190000
DTEND;TZID=America/New_York:20210413T210000
DTSTAMP:20260423T201316
CREATED:20210219T225508Z
LAST-MODIFIED:20210303T224227Z
UID:5610-1618340400-1618347600@universitydivers.ca
SUMMARY:Fitness to Dive Seminar
DESCRIPTION:Inner Space Seminar: Fitness to Dive Follow-up: Contact info\, Medical Fitness Questionnaire and Presentation
URL:https://universitydivers.ca/event/fitness-to-dive-seminar/
CATEGORIES:Training
END:VEVENT
BEGIN:VEVENT
DTSTART;TZID=America/New_York:20210406T190000
DTEND;TZID=America/New_York:20210406T210000
DTSTAMP:20260423T201316
CREATED:20210303T053330Z
LAST-MODIFIED:20210303T224154Z
UID:5761-1617735600-1617742800@universitydivers.ca
SUMMARY:Immersion Pulmonary Edema seminar
DESCRIPTION:Inner Space Seminar: Drowning from the Inside Out: Immersion Pulmonary Edema\, Tuesday\, April 6\, 2021
URL:https://universitydivers.ca/event/immersion-pulmonary-edema-seminar/
CATEGORIES:Training
ATTACH;FMTTYPE=image/png:https://universitydivers.ca/wp-content/uploads/2021/02/drowning-IPE.png
END:VEVENT
BEGIN:VEVENT
DTSTART;TZID=America/New_York:20210330T190000
DTEND;TZID=America/New_York:20210330T210000
DTSTAMP:20260423T201316
CREATED:20210125T034600Z
LAST-MODIFIED:20210303T224102Z
UID:5225-1617130800-1617138000@universitydivers.ca
SUMMARY:Galapagos: Where the wild things are
DESCRIPTION:Inner Space Seminar: Where the Wild Things Are\, Travelogue to Galapagos\, Tuesday\, March 30\, 2021
URL:https://universitydivers.ca/event/galapagos-seminar/
CATEGORIES:Training
END:VEVENT
BEGIN:VEVENT
DTSTART;TZID=America/New_York:20210323T190000
DTEND;TZID=America/New_York:20210323T210000
DTSTAMP:20260423T201316
CREATED:20210128T041254Z
LAST-MODIFIED:20210303T224024Z
UID:5331-1616526000-1616533200@universitydivers.ca
SUMMARY:Night at the Museum: Ripley's Aquarium Virtual Tour
DESCRIPTION:Inner Space Seminar: Night at the Museum: Ripley’s Aquarium\, Tuesday\, March 23\, 2021.
URL:https://universitydivers.ca/event/night-at-the-museum-ripleys-aquarium-virtual-tour/
CATEGORIES:Training
END:VEVENT
BEGIN:VEVENT
DTSTART;TZID=America/New_York:20210316T190000
DTEND;TZID=America/New_York:20210316T210000
DTSTAMP:20260423T201316
CREATED:20210123T143725Z
LAST-MODIFIED:20210303T223932Z
UID:5202-1615921200-1615928400@universitydivers.ca
SUMMARY:Shipwreck Seminar
DESCRIPTION:Inner Space Seminar: Shipwrecks of Ontario: History and Mystery! Tuesday\, March 16\, 2021
URL:https://universitydivers.ca/event/shipwrecks-seminar/
CATEGORIES:Training
END:VEVENT
BEGIN:VEVENT
DTSTART;TZID=America/New_York:20210310T190000
DTEND;TZID=America/New_York:20210310T210000
DTSTAMP:20260423T201316
CREATED:20210210T062946Z
LAST-MODIFIED:20210210T062946Z
UID:5526-1615402800-1615410000@universitydivers.ca
SUMMARY:Executive Committee meeting
DESCRIPTION:
URL:https://universitydivers.ca/event/executive-committee-meeting-3/
CATEGORIES:Executive
ATTACH;FMTTYPE=image/png:https://universitydivers.ca/wp-content/uploads/2020/01/hhuc-logo.png
END:VEVENT
BEGIN:VEVENT
DTSTART;TZID=America/New_York:20210309T190000
DTEND;TZID=America/New_York:20210309T210000
DTSTAMP:20260423T201316
CREATED:20210123T142530Z
LAST-MODIFIED:20210303T223837Z
UID:5198-1615316400-1615323600@universitydivers.ca
SUMMARY:Freediving Seminar
DESCRIPTION:https://universitydivers.ca/freediving/
URL:https://universitydivers.ca/event/freediving-event/
CATEGORIES:Training
ATTACH;FMTTYPE=image/jpeg:https://universitydivers.ca/wp-content/uploads/2021/01/ocean.jpg
END:VEVENT
BEGIN:VEVENT
DTSTART;TZID=America/New_York:20210302T190000
DTEND;TZID=America/New_York:20210302T210000
DTSTAMP:20260423T201316
CREATED:20201211T092056Z
LAST-MODIFIED:20210303T224445Z
UID:4874-1614711600-1614718800@universitydivers.ca
SUMMARY:Cave Diving with Jill Heinerth
DESCRIPTION:Inner Space Seminar: Into the Planet – My life as a Cave Diver with Jill Heinerth\, Tuesday\, March 2\, 2021
URL:https://universitydivers.ca/event/cave-diving-event/
CATEGORIES:Training
ATTACH;FMTTYPE=image/jpeg:https://universitydivers.ca/wp-content/uploads/2020/12/cave-diving-jill-heinerth.jpg
END:VEVENT
BEGIN:VEVENT
DTSTART;TZID=America/New_York:20210223T190000
DTEND;TZID=America/New_York:20210223T210000
DTSTAMP:20260423T201316
CREATED:20201213T160655Z
LAST-MODIFIED:20210303T224541Z
UID:4959-1614106800-1614114000@universitydivers.ca
SUMMARY:Fish Identification Event
DESCRIPTION:Inner Space Seminar: Fish Identification of the Indo-Pacific\, Tuesday\, Feb. 23\, 2021
URL:https://universitydivers.ca/event/fish-identification-event/
CATEGORIES:Training
END:VEVENT
BEGIN:VEVENT
DTSTART;TZID=America/New_York:20210216T190000
DTEND;TZID=America/New_York:20210216T210000
DTSTAMP:20260423T201316
CREATED:20210119T081648Z
LAST-MODIFIED:20210303T224640Z
UID:5169-1613502000-1613509200@universitydivers.ca
SUMMARY:Diving into History Seminar
DESCRIPTION:Inner Space Seminar: Diving into History\, Tuesday\, Feb. 16\, 2021
URL:https://universitydivers.ca/event/diving-into-history-event/
CATEGORIES:Training
ATTACH;FMTTYPE=image/gif:https://universitydivers.ca/wp-content/uploads/2021/01/waome-wreck.gif
END:VEVENT
BEGIN:VEVENT
DTSTART;TZID=America/New_York:20210210T190000
DTEND;TZID=America/New_York:20210210T210000
DTSTAMP:20260423T201316
CREATED:20210119T082142Z
LAST-MODIFIED:20210119T082142Z
UID:5173-1612983600-1612990800@universitydivers.ca
SUMMARY:Executive Committee meeting
DESCRIPTION:
URL:https://universitydivers.ca/event/executive-committee-meeting-2/
CATEGORIES:Executive
ATTACH;FMTTYPE=image/png:https://universitydivers.ca/wp-content/uploads/2020/01/hhuc-logo.png
END:VEVENT
BEGIN:VEVENT
DTSTART;TZID=America/New_York:20210209T190000
DTEND;TZID=America/New_York:20210209T210000
DTSTAMP:20260423T201316
CREATED:20201210T225012Z
LAST-MODIFIED:20210303T224746Z
UID:4843-1612897200-1612904400@universitydivers.ca
SUMMARY:Aliens of the Deep
DESCRIPTION:Inner Space Seminar: Aliens of the Deep – A scientific look at the octopus
URL:https://universitydivers.ca/event/travelogue-event/
CATEGORIES:Training
ATTACH;FMTTYPE=image/jpeg:https://universitydivers.ca/wp-content/uploads/2021/01/ocean.jpg
END:VEVENT
BEGIN:VEVENT
DTSTART;TZID=America/New_York:20210202T190000
DTEND;TZID=America/New_York:20210202T210000
DTSTAMP:20260423T201316
CREATED:20201210T214121Z
LAST-MODIFIED:20210303T224833Z
UID:4815-1612292400-1612299600@universitydivers.ca
SUMMARY:Chasing Coral: Film Screening
DESCRIPTION:Inner Space Seminar: Chasing Coral Film Screening\, Tuesday\, Feb. 2\, 2021
URL:https://universitydivers.ca/event/chasing-coral-film-screening/
CATEGORIES:Training
END:VEVENT
BEGIN:VEVENT
DTSTART;TZID=America/New_York:20210126T190000
DTEND;TZID=America/New_York:20210126T210000
DTSTAMP:20260423T201316
CREATED:20201210T213809Z
LAST-MODIFIED:20210303T223744Z
UID:4812-1611687600-1611694800@universitydivers.ca
SUMMARY:Underwater Archaeology
DESCRIPTION:Inner Space Seminar: Underwater Archaeology\, Tuesday\, Jan. 26\, 2021
URL:https://universitydivers.ca/event/underwater-archeology/
CATEGORIES:Training
END:VEVENT
END:VCALENDAR